BEGIN:VCALENDAR
VERSION:2.0
PRODID:-//Linda the Lender - ECPv6.15.17.1//NONSGML v1.0//EN
CALSCALE:GREGORIAN
METHOD:PUBLISH
X-ORIGINAL-URL:https://lindathelender.com
X-WR-CALDESC:Events for Linda the Lender
REFRESH-INTERVAL;VALUE=DURATION:PT1H
X-Robots-Tag:noindex
X-PUBLISHED-TTL:PT1H
BEGIN:VTIMEZONE
TZID:America/Chicago
BEGIN:DAYLIGHT
TZOFFSETFROM:-0600
TZOFFSETTO:-0500
TZNAME:CDT
DTSTART:20250309T080000
END:DAYLIGHT
BEGIN:STANDARD
TZOFFSETFROM:-0500
TZOFFSETTO:-0600
TZNAME:CST
DTSTART:20251102T070000
END:STANDARD
BEGIN:DAYLIGHT
TZOFFSETFROM:-0600
TZOFFSETTO:-0500
TZNAME:CDT
DTSTART:20260308T080000
END:DAYLIGHT
BEGIN:STANDARD
TZOFFSETFROM:-0500
TZOFFSETTO:-0600
TZNAME:CST
DTSTART:20261101T070000
END:STANDARD
BEGIN:DAYLIGHT
TZOFFSETFROM:-0600
TZOFFSETTO:-0500
TZNAME:CDT
DTSTART:20270314T080000
END:DAYLIGHT
BEGIN:STANDARD
TZOFFSETFROM:-0500
TZOFFSETTO:-0600
TZNAME:CST
DTSTART:20271107T070000
END:STANDARD
END:VTIMEZONE
BEGIN:VEVENT
DTSTART;TZID=America/Chicago:20260409T090000
DTEND;TZID=America/Chicago:20260409T103000
DTSTAMP:20260421T060120
CREATED:20260331T185231Z
LAST-MODIFIED:20260331T214442Z
UID:1932-1775725200-1775730600@lindathelender.com
SUMMARY:Mortgage Basics for Realtors
DESCRIPTION:  \n  \n  \n  \n  \n  \n  \n  \nMortgage Basics for Realtors  \nA clear\, practical foundation in mortgage basics. \nIn this class we’ll cover: \n\nA simple overview of common mortgage products types\n\nBasic qualifications\nCommon myths and misconceptions\n\nDown payment myths\n\n\n\n\nHow credit impacts buying power\nHow the pre-approval process actually works\n\nPre-approval versus pre-qualification\n\n\nWhat happens from contract to close\n\nTiming\nBasic loan approval process\n\n\nCommon financing pitfalls that can derail deals – and how to avoid them\n\nThe goal is to help agents: \n\nBetter prepare their buyers\nWrite stronger offers\nReduce surprises during the loan process\nCreate smoother transactions for everyone involved
URL:https://lindathelender.com/event/mortgage-basics-for-realtors-2/
LOCATION:Fairway Independent Mortgage\, 15 Park Place Suite 500\, Appleton\, WI\, 54914\, United States
ORGANIZER;CN="Linda Williamson":MAILTO:linda.williamson@fairwaymc.com
END:VEVENT
END:VCALENDAR