BEGIN:VCALENDAR
VERSION:2.0
PRODID:-//Linda the Lender - ECPv6.15.17.1//NONSGML v1.0//EN
CALSCALE:GREGORIAN
METHOD:PUBLISH
X-WR-CALNAME:Linda the Lender
X-ORIGINAL-URL:https://lindathelender.com
X-WR-CALDESC:Events for Linda the Lender
REFRESH-INTERVAL;VALUE=DURATION:PT1H
X-Robots-Tag:noindex
X-PUBLISHED-TTL:PT1H
BEGIN:VTIMEZONE
TZID:UTC
BEGIN:STANDARD
TZOFFSETFROM:+0000
TZOFFSETTO:+0000
TZNAME:UTC
DTSTART:20230101T000000
END:STANDARD
END:VTIMEZONE
BEGIN:VEVENT
DTSTART;TZID=UTC:20241107T090000
DTEND;TZID=UTC:20241107T100000
DTSTAMP:20260422T180055
CREATED:20241031T070238Z
LAST-MODIFIED:20250102T142031Z
UID:1162-1730970000-1730973600@lindathelender.com
SUMMARY:All Things Appraisals
DESCRIPTION:Join us for an informative virtual event featuring Tom Gleason\, a staff appraiser with FLS Appraisal Management. \nTom will address your questions and provide insights related to the appraisal process. This session will focus on the new ROV (Reconsideration of Value) rules\, providing clarity on how these changes impact our industry. \nDon’t miss this opportunity to engage with industry experts and enhance your understanding of the evolving appraisal landscape. Register now to secure your spot!
URL:https://lindathelender.com/event/all-things-appraisals/
LOCATION:Virtual Meeting
ORGANIZER;CN="Linda Williamson":MAILTO:linda.williamson@fairwaymc.com
END:VEVENT
BEGIN:VEVENT
DTSTART;TZID=UTC:20240523T090000
DTEND;TZID=UTC:20240523T100000
DTSTAMP:20260422T180055
CREATED:20240224T225512Z
LAST-MODIFIED:20240308T025814Z
UID:1049-1716454800-1716458400@lindathelender.com
SUMMARY:All Things Credit
DESCRIPTION:
URL:https://lindathelender.com/event/all-things-credit/
LOCATION:Fairway Independent Mortgage\, 15 Park Place Suite 500\, Appleton\, WI\, 54914\, United States
ORGANIZER;CN="Linda Williamson":MAILTO:linda.williamson@fairwaymc.com
END:VEVENT
BEGIN:VEVENT
DTSTART;TZID=UTC:20240425T090000
DTEND;TZID=UTC:20240425T100000
DTSTAMP:20260422T180055
CREATED:20240224T225325Z
LAST-MODIFIED:20240308T025941Z
UID:1047-1714035600-1714039200@lindathelender.com
SUMMARY:Ask an Appraiser
DESCRIPTION:
URL:https://lindathelender.com/event/ask-an-appraiser/
LOCATION:Fairway Independent Mortgage\, 15 Park Place Suite 500\, Appleton\, WI\, 54914\, United States
ORGANIZER;CN="Linda Williamson":MAILTO:linda.williamson@fairwaymc.com
END:VEVENT
BEGIN:VEVENT
DTSTART;TZID=UTC:20240323T100000
DTEND;TZID=UTC:20240323T110000
DTSTAMP:20260422T180055
CREATED:20240307T234422Z
LAST-MODIFIED:20240308T040656Z
UID:1062-1711188000-1711191600@lindathelender.com
SUMMARY:PJ's & Pre-Approvals
DESCRIPTION:Cozy up in your PJs and get pre-approved!  Join our exclusive webinar designed for all homebuyers looking to make their dream home a reality. Don’t miss out on expert insights and guidance!
URL:https://lindathelender.com/event/pjs-pre-approvals/
LOCATION:Virtual Meeting
ORGANIZER;CN="Linda Williamson":MAILTO:linda.williamson@fairwaymc.com
END:VEVENT
BEGIN:VEVENT
DTSTART;TZID=UTC:20240321T090000
DTEND;TZID=UTC:20240321T100000
DTSTAMP:20260422T180055
CREATED:20240224T225004Z
LAST-MODIFIED:20240308T030058Z
UID:1045-1711011600-1711015200@lindathelender.com
SUMMARY:Demystifying FHA and VA lending
DESCRIPTION:
URL:https://lindathelender.com/event/demystifying-fha-and-va-lending/
LOCATION:Fairway Independent Mortgage\, 15 Park Place Suite 500\, Appleton\, WI\, 54914\, United States
ORGANIZER;CN="Linda Williamson":MAILTO:linda.williamson@fairwaymc.com
END:VEVENT
BEGIN:VEVENT
DTSTART;TZID=UTC:20240317T173000
DTEND;TZID=UTC:20240317T193000
DTSTAMP:20260422T180055
CREATED:20240301T004447Z
LAST-MODIFIED:20240308T030150Z
UID:1054-1710696600-1710703800@lindathelender.com
SUMMARY:Business Partner Appreciation
DESCRIPTION:Lake Park Swim & Fitness \n5:30pm to 7:30pm \nUse of the pool\, hot tub\, sauna and locker room. \nYoga 5:45 to 6:45 (participation is voluntary) \nSnacks and beverages provided.
URL:https://lindathelender.com/event/business-partner-appreciation/
LOCATION:Lake Park Swim & Fitness\, 730 Lake Park Rd\, Menasha\, WI\, 54952\, United States
ORGANIZER;CN="Linda Williamson":MAILTO:linda.williamson@fairwaymc.com
END:VEVENT
BEGIN:VEVENT
DTSTART;TZID=UTC:20240301T113000
DTEND;TZID=UTC:20240301T130000
DTSTAMP:20260422T180055
CREATED:20240220T085327Z
LAST-MODIFIED:20240221T073456Z
UID:1035-1709292600-1709298000@lindathelender.com
SUMMARY:Stop Renting & Start Owning
DESCRIPTION:all things credit!\ngrants\, gifts\, $0 down!\nloan options!\nhow do I get pre-approved?\nnext steps?\n\nJoin us for these topics and more. Bring your questions too! Lunch will be served.
URL:https://lindathelender.com/event/stop-renting-start-owning/
LOCATION:Xe 54\, 1350 W American Dr.\, Neenah\, WI\, 54956\, United States
ORGANIZER;CN="Linda Williamson":MAILTO:linda.williamson@fairwaymc.com
END:VEVENT
BEGIN:VEVENT
DTSTART;TZID=UTC:20240220T090000
DTEND;TZID=UTC:20240220T100000
DTSTAMP:20260422T180055
CREATED:20240201T213455Z
LAST-MODIFIED:20240201T213715Z
UID:950-1708419600-1708423200@lindathelender.com
SUMMARY:Everything WHEDA
DESCRIPTION:Discover ZERO down financing options and how you can empower your clients with more home buying possibilities.
URL:https://lindathelender.com/event/everything-wheda/
LOCATION:Fairway Independent Mortgage\, 15 Park Place Suite 500\, Appleton\, WI\, 54914\, United States
ORGANIZER;CN="Linda Williamson":MAILTO:linda.williamson@fairwaymc.com
END:VEVENT
BEGIN:VEVENT
DTSTART;TZID=UTC:20240125T090000
DTEND;TZID=UTC:20240125T100000
DTSTAMP:20260422T180055
CREATED:20240111T094355Z
LAST-MODIFIED:20240111T094355Z
UID:927-1706173200-1706176800@lindathelender.com
SUMMARY:Appraisals - Learning with Linda
DESCRIPTION:
URL:https://lindathelender.com/event/appraisals-learning-with-linda/
LOCATION:Fairway Independent Mortgage\, 15 Park Place Suite 500\, Appleton\, WI\, 54914\, United States
ORGANIZER;CN="Linda Williamson":MAILTO:linda.williamson@fairwaymc.com
END:VEVENT
END:VCALENDAR