BEGIN:VCALENDAR
VERSION:2.0
PRODID:-//Linda the Lender - ECPv6.15.17.1//NONSGML v1.0//EN
CALSCALE:GREGORIAN
METHOD:PUBLISH
X-ORIGINAL-URL:https://lindathelender.com
X-WR-CALDESC:Events for Linda the Lender
REFRESH-INTERVAL;VALUE=DURATION:PT1H
X-Robots-Tag:noindex
X-PUBLISHED-TTL:PT1H
BEGIN:VTIMEZONE
TZID:UTC
BEGIN:STANDARD
TZOFFSETFROM:+0000
TZOFFSETTO:+0000
TZNAME:UTC
DTSTART:20230101T000000
END:STANDARD
END:VTIMEZONE
BEGIN:VEVENT
DTSTART;TZID=UTC:20240425T090000
DTEND;TZID=UTC:20240425T100000
DTSTAMP:20260422T200631
CREATED:20240224T225325Z
LAST-MODIFIED:20240308T025941Z
UID:1047-1714035600-1714039200@lindathelender.com
SUMMARY:Ask an Appraiser
DESCRIPTION:
URL:https://lindathelender.com/event/ask-an-appraiser/
LOCATION:Fairway Independent Mortgage\, 15 Park Place Suite 500\, Appleton\, WI\, 54914\, United States
ORGANIZER;CN="Linda Williamson":MAILTO:linda.williamson@fairwaymc.com
END:VEVENT
END:VCALENDAR