BEGIN:VCALENDAR
VERSION:2.0
PRODID:-//Linda the Lender - ECPv6.15.17.1//NONSGML v1.0//EN
CALSCALE:GREGORIAN
METHOD:PUBLISH
X-ORIGINAL-URL:https://lindathelender.com
X-WR-CALDESC:Events for Linda the Lender
REFRESH-INTERVAL;VALUE=DURATION:PT1H
X-Robots-Tag:noindex
X-PUBLISHED-TTL:PT1H
BEGIN:VTIMEZONE
TZID:America/Chicago
BEGIN:DAYLIGHT
TZOFFSETFROM:-0600
TZOFFSETTO:-0500
TZNAME:CDT
DTSTART:20240310T080000
END:DAYLIGHT
BEGIN:STANDARD
TZOFFSETFROM:-0500
TZOFFSETTO:-0600
TZNAME:CST
DTSTART:20241103T070000
END:STANDARD
BEGIN:DAYLIGHT
TZOFFSETFROM:-0600
TZOFFSETTO:-0500
TZNAME:CDT
DTSTART:20250309T080000
END:DAYLIGHT
BEGIN:STANDARD
TZOFFSETFROM:-0500
TZOFFSETTO:-0600
TZNAME:CST
DTSTART:20251102T070000
END:STANDARD
BEGIN:DAYLIGHT
TZOFFSETFROM:-0600
TZOFFSETTO:-0500
TZNAME:CDT
DTSTART:20260308T080000
END:DAYLIGHT
BEGIN:STANDARD
TZOFFSETFROM:-0500
TZOFFSETTO:-0600
TZNAME:CST
DTSTART:20261101T070000
END:STANDARD
END:VTIMEZONE
BEGIN:VEVENT
DTSTART;TZID=America/Chicago:20250215T100000
DTEND;TZID=America/Chicago:20250215T120000
DTSTAMP:20260422T040636
CREATED:20241231T013103Z
LAST-MODIFIED:20250127T002033Z
UID:1694-1739613600-1739620800@lindathelender.com
SUMMARY:Get Home Ready!  Group In-Person Meeting
DESCRIPTION:Get Home Ready! – First Steps:\nFinancing & Pre-Approval\nTopics covered in this Event: \n\nCredit Score\nDown Payment\nClosing Costs\nGrants & Down Payment Assistance Programs
URL:https://lindathelender.com/event/get-home-ready-2-15/
LOCATION:Fairway Independent Mortgage\, 15 Park Place Suite 500\, Appleton\, WI\, 54914\, United States
CATEGORIES:New Year New House - 2025
ORGANIZER;CN="Linda Williamson":MAILTO:linda.williamson@fairwaymc.com
END:VEVENT
BEGIN:VEVENT
DTSTART;TZID=America/Chicago:20250219T190000
DTEND;TZID=America/Chicago:20250219T200000
DTSTAMP:20260422T040636
CREATED:20241231T013210Z
LAST-MODIFIED:20250127T001617Z
UID:1698-1739991600-1739995200@lindathelender.com
SUMMARY:Get Home Ready! Zoom Meeting
DESCRIPTION:Get Home Ready! – First Steps:\nFinancing & Pre-Approval\nTopics covered in this Event: \n\nCredit Score\nDown Payment\nClosing Costs\nGrants & Down Payment Assistance Programs
URL:https://lindathelender.com/event/get-home-ready-2-19/
LOCATION:Virtual Meeting
CATEGORIES:New Year New House - 2025
ORGANIZER;CN="Linda Williamson":MAILTO:linda.williamson@fairwaymc.com
END:VEVENT
BEGIN:VEVENT
DTSTART;TZID=America/Chicago:20250220T090000
DTEND;TZID=America/Chicago:20250220T103000
DTSTAMP:20260422T040636
CREATED:20250126T234119Z
LAST-MODIFIED:20250127T150040Z
UID:1800-1740042000-1740047400@lindathelender.com
SUMMARY:FHA - VA: Myths and Misconceptions
DESCRIPTION: Real Estate Agents!  \nWant to become a pro at helping your clients navigate VA and FHA loans? Join us for a FREE class where we’ll debunk common myths and misconceptions about these government-backed loans! \nWith 23 years of experience in government lending\, I’ll walk you through the nuances of VA & FHA loans—everything from eligibility to closing timelines—so you can better serve your clients and close more deals! \n Credit requirements \n Property Eligibility \n Key differences between VA & FHA loans \n Insider tips to help your clients get approved \nDon’t miss out!  Sign up today and level up your knowledge of these valuable loan options.
URL:https://lindathelender.com/event/fha-va-myths-and-misconceptions/
LOCATION:Fairway Independent Mortgage\, 15 Park Place Suite 500\, Appleton\, WI\, 54914\, United States
ORGANIZER;CN="Linda Williamson":MAILTO:linda.williamson@fairwaymc.com
END:VEVENT
END:VCALENDAR